

BEGIN:VCALENDAR
VERSION:2.0
PRODID:-//PIMFA - Building Personal Financial Futures - ECPv6.15.20//NONSGML v1.0//EN
CALSCALE:GREGORIAN
METHOD:PUBLISH
X-ORIGINAL-URL:https://www.pimfa.co.uk
X-WR-CALDESC:Events for PIMFA - Building Personal Financial Futures
REFRESH-INTERVAL;VALUE=DURATION:PT1H
X-Robots-Tag:noindex
X-PUBLISHED-TTL:PT1H
BEGIN:VTIMEZONE
TZID:Europe/London
BEGIN:DAYLIGHT
TZOFFSETFROM:+0000
TZOFFSETTO:+0100
TZNAME:BST
DTSTART:20250330T010000
END:DAYLIGHT
BEGIN:STANDARD
TZOFFSETFROM:+0100
TZOFFSETTO:+0000
TZNAME:GMT
DTSTART:20251026T010000
END:STANDARD
BEGIN:DAYLIGHT
TZOFFSETFROM:+0000
TZOFFSETTO:+0100
TZNAME:BST
DTSTART:20260329T010000
END:DAYLIGHT
BEGIN:STANDARD
TZOFFSETFROM:+0100
TZOFFSETTO:+0000
TZNAME:GMT
DTSTART:20261025T010000
END:STANDARD
BEGIN:DAYLIGHT
TZOFFSETFROM:+0000
TZOFFSETTO:+0100
TZNAME:BST
DTSTART:20270328T010000
END:DAYLIGHT
BEGIN:STANDARD
TZOFFSETFROM:+0100
TZOFFSETTO:+0000
TZNAME:GMT
DTSTART:20271031T010000
END:STANDARD
END:VTIMEZONE
BEGIN:VEVENT
DTSTART;TZID=Europe/London:20260430T083000
DTEND;TZID=Europe/London:20260430T124500
DTSTAMP:20260423T165338
CREATED:20260224T094416Z
LAST-MODIFIED:20260327T091346Z
UID:352074-1777537800-1777553100@www.pimfa.co.uk
SUMMARY:M&A Due Diligence: Getting It Right Before (and After) the Deal
DESCRIPTION:Synergies stall.\nCosts rise.\nRegulatory issues emerge.\nValue leaks. \nIn 2026\, due diligence is no longer a technical exercise. It is a strategic capability and a competitive advantage. \nIn this high-impact\, half-day session led by Grant Thornton and supported by Farrer & Co.\, senior deal leaders will unpack how acquiring firms are upgrading financial\, regulatory\, operational and technology due diligence to protect margin\, reduce risk and accelerate growth. \nWhy attend*? \nThis is a practical\, peer-led session focused on real-world outcomes\, not theory. We will explore: \n• Where due diligence typically breaks down in wealth and advice transactions\n• The hidden risks that only emerge post-completion\n• How strong due diligence protects deal value and improves supervisory confidence\n• The operational and technology challenges that undermine synergy cases\n• What leading firms are doing differently in 2026 \nYou will also hear directly from senior industry leaders on the questions they wish they had asked before signing. \n*Attendance is open to senior leaders from PIMFA full member firms and FCA-regulated firms. To help maintain the integrity of the discussion\, PIMFA may review registrations and reserves the right to decline attendance where the eligibility criteria are not met.
URL:https://www.pimfa.co.uk/event/ma-due-diligence-getting-it-right-before-and-after-the-deal/
LOCATION:Grant Thornton UK LLP\, 8 Finsbury Circus\, London\, EC2M 7EA\, United Kingdom
CATEGORIES:Briefing,Learning
ATTACH;FMTTYPE=image/png:https://www.pimfa.co.uk/wp-content/uploads/2025/06/MA-general-avatar_light.png
END:VEVENT
END:VCALENDAR