

BEGIN:VCALENDAR
VERSION:2.0
PRODID:-//PIMFA - Building Personal Financial Futures - ECPv6.15.18//NONSGML v1.0//EN
CALSCALE:GREGORIAN
METHOD:PUBLISH
X-WR-CALNAME:PIMFA - Building Personal Financial Futures
X-ORIGINAL-URL:https://www.pimfa.co.uk
X-WR-CALDESC:Events for PIMFA - Building Personal Financial Futures
REFRESH-INTERVAL;VALUE=DURATION:PT1H
X-Robots-Tag:noindex
X-PUBLISHED-TTL:PT1H
BEGIN:VTIMEZONE
TZID:Europe/London
BEGIN:DAYLIGHT
TZOFFSETFROM:+0000
TZOFFSETTO:+0100
TZNAME:BST
DTSTART:20250330T010000
END:DAYLIGHT
BEGIN:STANDARD
TZOFFSETFROM:+0100
TZOFFSETTO:+0000
TZNAME:GMT
DTSTART:20251026T010000
END:STANDARD
BEGIN:DAYLIGHT
TZOFFSETFROM:+0000
TZOFFSETTO:+0100
TZNAME:BST
DTSTART:20260329T010000
END:DAYLIGHT
BEGIN:STANDARD
TZOFFSETFROM:+0100
TZOFFSETTO:+0000
TZNAME:GMT
DTSTART:20261025T010000
END:STANDARD
BEGIN:DAYLIGHT
TZOFFSETFROM:+0000
TZOFFSETTO:+0100
TZNAME:BST
DTSTART:20270328T010000
END:DAYLIGHT
BEGIN:STANDARD
TZOFFSETFROM:+0100
TZOFFSETTO:+0000
TZNAME:GMT
DTSTART:20271031T010000
END:STANDARD
END:VTIMEZONE
BEGIN:VEVENT
DTSTART;VALUE=DATE:20260317
DTEND;VALUE=DATE:20260319
DTSTAMP:20260419T181102
CREATED:20260309T132733Z
LAST-MODIFIED:20260310T122920Z
UID:351953-1773705600-1773878399@www.pimfa.co.uk
SUMMARY:Digital Integration in Wealth Management Conference
DESCRIPTION:the 10th Annual Digital Integration in Wealth Management Conference\, bringing together senior leaders from across wealth management\, private banking and fintech to explore the future of AI\, digital transformation\, client experience\, regulation and cybersecurity. \nThis two-day conference will feature practical case studies\, expert panels and peer-to-peer discussions focused on helping firms navigate evolving client expectations\, regulatory demands and next-generation wealth transfer.
URL:https://www.pimfa.co.uk/event/digital-integration-in-wealth-management-conference/
CATEGORIES:Industry Events
ATTACH;FMTTYPE=image/png:https://www.pimfa.co.uk/wp-content/uploads/2025/06/800x800_tech_man_outside.png
END:VEVENT
BEGIN:VEVENT
DTSTART;TZID=Europe/London:20260325T110000
DTEND;TZID=Europe/London:20260325T113000
DTSTAMP:20260419T181102
CREATED:20260309T132230Z
LAST-MODIFIED:20260309T135643Z
UID:353348-1774436400-1774438200@www.pimfa.co.uk
SUMMARY:Cyber Uncovered – Cyber Risk Management Vs IT: What’s the Difference?
DESCRIPTION:Your IT provider keeps your systems running. But who is responsible for understanding\, measuring and reducing cyber risk? \nMany organisations assume cyber security is already covered\, yet attacks continue to cause disruption\, financial loss and reputational damage. IT services and cyber risk management serve different purposes\, and confusing the two can leave significant gaps. \nIn this session\, Kerrie Machin from Mitigo is joined by Alastair Huntingford\, Director at Managed Service Provider (MSP)\, NDaxi\, to discuss the practical differences between IT services and cyber risk management and why businesses need independent oversight\, alongside their internal and external IT support. \nKey Takeaways:\nThe differences between IT services\, MSP support and cyber risk management.\nWhy cyber risk cannot be fully addressed through IT alone.\nAn MSP perspective on where responsibilities realistically begin and end.\nWhy independent oversight is necessary to gain a clear view of cyber risk.\nThe questions leadership teams should be asking to understand whether they are truly protected. \nRegister today to gain a clear understanding of how IT services and cyber risk management differ – and why both are essential.
URL:https://www.pimfa.co.uk/event/cyber-uncovered-cyber-risk-management-vs-it-whats-the-difference/
CATEGORIES:Industry Events
ATTACH;FMTTYPE=image/png:https://www.pimfa.co.uk/wp-content/uploads/2019/04/Mitigo-SQ.png
END:VEVENT
END:VCALENDAR