

BEGIN:VCALENDAR
VERSION:2.0
PRODID:-//PIMFA - Building Personal Financial Futures - ECPv6.15.20//NONSGML v1.0//EN
CALSCALE:GREGORIAN
METHOD:PUBLISH
X-WR-CALNAME:PIMFA - Building Personal Financial Futures
X-ORIGINAL-URL:https://www.pimfa.co.uk
X-WR-CALDESC:Events for PIMFA - Building Personal Financial Futures
REFRESH-INTERVAL;VALUE=DURATION:PT1H
X-Robots-Tag:noindex
X-PUBLISHED-TTL:PT1H
BEGIN:VTIMEZONE
TZID:Europe/London
BEGIN:DAYLIGHT
TZOFFSETFROM:+0000
TZOFFSETTO:+0100
TZNAME:BST
DTSTART:20240331T010000
END:DAYLIGHT
BEGIN:STANDARD
TZOFFSETFROM:+0100
TZOFFSETTO:+0000
TZNAME:GMT
DTSTART:20241027T010000
END:STANDARD
BEGIN:DAYLIGHT
TZOFFSETFROM:+0000
TZOFFSETTO:+0100
TZNAME:BST
DTSTART:20250330T010000
END:DAYLIGHT
BEGIN:STANDARD
TZOFFSETFROM:+0100
TZOFFSETTO:+0000
TZNAME:GMT
DTSTART:20251026T010000
END:STANDARD
BEGIN:DAYLIGHT
TZOFFSETFROM:+0000
TZOFFSETTO:+0100
TZNAME:BST
DTSTART:20260329T010000
END:DAYLIGHT
BEGIN:STANDARD
TZOFFSETFROM:+0100
TZOFFSETTO:+0000
TZNAME:GMT
DTSTART:20261025T010000
END:STANDARD
END:VTIMEZONE
BEGIN:VEVENT
DTSTART;TZID=Europe/London:20250929T100000
DTEND;TZID=Europe/London:20250929T153000
DTSTAMP:20260425T145451
CREATED:20250815T094716Z
LAST-MODIFIED:20250815T114204Z
UID:333386-1759140000-1759159800@www.pimfa.co.uk
SUMMARY:Cyber Security: Capture The Flag
DESCRIPTION:Capture the Flag immerses you in a sensory-rich and hands-on learning environment. Guided by our security trainers and penetration testers\, you will learn how to attack software applications and networks using the tools and techniques employed by real-life threat actors. \nWhy Capture the Flag? \nSecurity isn’t always front and centre for engineering teams. Formal training in this space is still the exception\, not the rule. But with threats on the rise\, that gap can leave your software exposed. \nOur hands-on events are built to change that. Tailored for developers\, infrastructure engineers\, and security professionals alike\, these sessions are designed to embed security thinking into everyday engineering practice. You’ll learn how to spot\, understand and mitigate vulnerabilities early – long before they make it to production. \nThis capture the flag event will help you to: \nGlimpse into a hacker’s mindset and motivations\nUnderstand common attack vectors and how to mitigate them\nEmbrace shift-left and secure-by-design principles\nDevelop confidence in your ability to write\, test and ship secure code\nAvoid the common security flaws introduced during development cycles \nFor more information please email MariaF@pimfa.co.uk
URL:https://www.pimfa.co.uk/event/cyber-security-capture-the-flag/
LOCATION:Evelyn Partners\, 45 Gresham Street\, London\, EC2V 7BG\, United Kingdom
CATEGORIES:Industry Events
ATTACH;FMTTYPE=image/jpeg:https://www.pimfa.co.uk/wp-content/uploads/2025/06/800x800sunet_woman_photography.jpg
END:VEVENT
END:VCALENDAR