

BEGIN:VCALENDAR
VERSION:2.0
PRODID:-//PIMFA - Building Personal Financial Futures - ECPv6.15.18//NONSGML v1.0//EN
CALSCALE:GREGORIAN
METHOD:PUBLISH
X-ORIGINAL-URL:https://www.pimfa.co.uk
X-WR-CALDESC:Events for PIMFA - Building Personal Financial Futures
REFRESH-INTERVAL;VALUE=DURATION:PT1H
X-Robots-Tag:noindex
X-PUBLISHED-TTL:PT1H
BEGIN:VTIMEZONE
TZID:Europe/London
BEGIN:DAYLIGHT
TZOFFSETFROM:+0000
TZOFFSETTO:+0100
TZNAME:BST
DTSTART:20240331T010000
END:DAYLIGHT
BEGIN:STANDARD
TZOFFSETFROM:+0100
TZOFFSETTO:+0000
TZNAME:GMT
DTSTART:20241027T010000
END:STANDARD
BEGIN:DAYLIGHT
TZOFFSETFROM:+0000
TZOFFSETTO:+0100
TZNAME:BST
DTSTART:20250330T010000
END:DAYLIGHT
BEGIN:STANDARD
TZOFFSETFROM:+0100
TZOFFSETTO:+0000
TZNAME:GMT
DTSTART:20251026T010000
END:STANDARD
BEGIN:DAYLIGHT
TZOFFSETFROM:+0000
TZOFFSETTO:+0100
TZNAME:BST
DTSTART:20260329T010000
END:DAYLIGHT
BEGIN:STANDARD
TZOFFSETFROM:+0100
TZOFFSETTO:+0000
TZNAME:GMT
DTSTART:20261025T010000
END:STANDARD
END:VTIMEZONE
BEGIN:VEVENT
DTSTART;TZID=Europe/London:20250603T183000
DTEND;TZID=Europe/London:20250603T213000
DTSTAMP:20260420T074948
CREATED:20241213T114348Z
LAST-MODIFIED:20260327T080204Z
UID:319554-1748975400-1748986200@www.pimfa.co.uk
SUMMARY:PIMFA Annual Reception 2025
DESCRIPTION:Due to the huge popularity of this event we are releasing a total of 5 tickets per firm in this instance. This might increase closer to the time if capacity allows. \nThis will be a great opportunity to network with industry colleagues\, industry stakeholders and to celebrate all the great achievements the industry has collectively achieved in 2023. \nEarly booking is recommended\, to book your place please contact the team on events@pimfa.co.uk \nWe look forward to seeing you there! \nEvent details:\nDate: 3 June 2025\nTiming: 18:30 – 21:30\nPlease contact events@pimfa.co.uk if you’d like to attend.
URL:https://www.pimfa.co.uk/event/pimfa-annual-reception-2025/
CATEGORIES:PIMFA Events,Symposium, Awards and Networking
ATTACH;FMTTYPE=image/jpeg:https://www.pimfa.co.uk/wp-content/uploads/2024/11/iStock-1389006783-scaled.jpg
END:VEVENT
BEGIN:VEVENT
DTSTART;TZID=Europe/London:20250605T140000
DTEND;TZID=Europe/London:20250605T150000
DTSTAMP:20260420T074948
CREATED:20250430T134533Z
LAST-MODIFIED:20250605T091408Z
UID:325712-1749132000-1749135600@www.pimfa.co.uk
SUMMARY:PIMFA HR Briefing- DEI: What now\, what next for HR? June 2025
DESCRIPTION:In April\, the FCA announced that it will no longer bring forward proposals requiring many firms to develop a diversity and inclusion strategy\, collect and share data\, and set targets to address underrepresentation. That said\, the regulator still believes that DEI can deliver improved internal governance\, decision-making\, and risk management. Contrast this with the rollback on DEI initiatives by the US government with many firms like Google\, META\, and Adobe following suit and scaling back their diversity\, equity\, and inclusion (DEI) efforts; where does that leave HR in the UK advice firms leading and managing their firms’ DEI initiatives? \nIn this session of PIMFA’s HR Briefing\, delivered by the employment team at Clyde & Co.\, HR leaders will share their strategies and approaches to DEI\, equality\, and weaving inclusivity into the fabric of workplace culture. \nYou won’t want to miss this discussion\, so secure your FREE place today!s
URL:https://www.pimfa.co.uk/event/pimfa-hr-forum-dei-what-now-what-next-for-hr-june-2025/
CATEGORIES:HR Briefing,Learning
ATTACH;FMTTYPE=image/png:https://www.pimfa.co.uk/wp-content/uploads/2025/12/800x800_yellow-people-walking.png
LOCATION:
END:VEVENT
END:VCALENDAR