

BEGIN:VCALENDAR
VERSION:2.0
PRODID:-//PIMFA - Building Personal Financial Futures - ECPv6.15.18//NONSGML v1.0//EN
CALSCALE:GREGORIAN
METHOD:PUBLISH
X-WR-CALNAME:PIMFA - Building Personal Financial Futures
X-ORIGINAL-URL:https://www.pimfa.co.uk
X-WR-CALDESC:Events for PIMFA - Building Personal Financial Futures
REFRESH-INTERVAL;VALUE=DURATION:PT1H
X-Robots-Tag:noindex
X-PUBLISHED-TTL:PT1H
BEGIN:VTIMEZONE
TZID:Europe/London
BEGIN:DAYLIGHT
TZOFFSETFROM:+0000
TZOFFSETTO:+0100
TZNAME:BST
DTSTART:20240331T010000
END:DAYLIGHT
BEGIN:STANDARD
TZOFFSETFROM:+0100
TZOFFSETTO:+0000
TZNAME:GMT
DTSTART:20241027T010000
END:STANDARD
BEGIN:DAYLIGHT
TZOFFSETFROM:+0000
TZOFFSETTO:+0100
TZNAME:BST
DTSTART:20250330T010000
END:DAYLIGHT
BEGIN:STANDARD
TZOFFSETFROM:+0100
TZOFFSETTO:+0000
TZNAME:GMT
DTSTART:20251026T010000
END:STANDARD
BEGIN:DAYLIGHT
TZOFFSETFROM:+0000
TZOFFSETTO:+0100
TZNAME:BST
DTSTART:20260329T010000
END:DAYLIGHT
BEGIN:STANDARD
TZOFFSETFROM:+0100
TZOFFSETTO:+0000
TZNAME:GMT
DTSTART:20261025T010000
END:STANDARD
END:VTIMEZONE
BEGIN:VEVENT
DTSTART;TZID=Europe/London:20250422T090000
DTEND;TZID=Europe/London:20250423T150000
DTSTAMP:20260420T102023
CREATED:20240508T095815Z
LAST-MODIFIED:20260327T080206Z
UID:309478-1745312400-1745420400@www.pimfa.co.uk
SUMMARY:PIMFA Women’s Symposium 2025
DESCRIPTION:Following from the HUGE success of the inaugural PIMFA Women’s Symposium 2024\, we are delighted to announce details of the 2025 event. \nReceive 30% off group bookings of 5 or more tickets – enter code PWWA6E6C at checkout. \nThe Women’s Symposium is PIMFA’s annual summit dedicated to the investment management\, financial advice and wealth management communities. Taking place over two days\, the summit will feature cutting edge though leadership\, high profile speakers\, and lively discussions on a range of topics\, including personal development\, the latest investment trends\, and practice management. The event will create a collaborative space for professionals to network\, learn and share best practice from across their professional world. \nWe encourage individuals at all stages of their career\, from Chief Executives to Interns\, to join us for two days of motivational talks\, regulatory updates\, industry panels\, personal development roundtables and thought-provoking content related to our industry\, and to career development. \nThe 2024 event was such a huge success that we expect this event to sell out very quickly so early booking is highly recommended. \nFor more information on the 2024 event click here  \nDo you have an interesting story to share? We have started looking for speakers\, if you’d like to be considered as a speaker please email us on events@pimfa.co.uk to discuss it further. \nDetails: \nDates: 22 & 23 April 2025 \nVenue: De Vere Grand Connaught Rooms\, Holborn\, central London \nTo access the PIMFA member discount you will need to log in to your account first. If you dont have a PIMFA account\, please create one at www.pimfa.co.uk/registration
URL:https://www.pimfa.co.uk/event/pimfa-womens-symposium-2025/
CATEGORIES:PIMFA Events,Symposium, Awards and Networking
ATTACH;FMTTYPE=image/png:https://www.pimfa.co.uk/wp-content/uploads/2024/05/iStock-2155334231.jpg
END:VEVENT
END:VCALENDAR