

BEGIN:VCALENDAR
VERSION:2.0
PRODID:-//PIMFA - Building Personal Financial Futures - ECPv6.15.20//NONSGML v1.0//EN
CALSCALE:GREGORIAN
METHOD:PUBLISH
X-ORIGINAL-URL:https://www.pimfa.co.uk
X-WR-CALDESC:Events for PIMFA - Building Personal Financial Futures
REFRESH-INTERVAL;VALUE=DURATION:PT1H
X-Robots-Tag:noindex
X-PUBLISHED-TTL:PT1H
BEGIN:VTIMEZONE
TZID:Europe/London
BEGIN:DAYLIGHT
TZOFFSETFROM:+0000
TZOFFSETTO:+0100
TZNAME:BST
DTSTART:20240331T010000
END:DAYLIGHT
BEGIN:STANDARD
TZOFFSETFROM:+0100
TZOFFSETTO:+0000
TZNAME:GMT
DTSTART:20241027T010000
END:STANDARD
BEGIN:DAYLIGHT
TZOFFSETFROM:+0000
TZOFFSETTO:+0100
TZNAME:BST
DTSTART:20250330T010000
END:DAYLIGHT
BEGIN:STANDARD
TZOFFSETFROM:+0100
TZOFFSETTO:+0000
TZNAME:GMT
DTSTART:20251026T010000
END:STANDARD
BEGIN:DAYLIGHT
TZOFFSETFROM:+0000
TZOFFSETTO:+0100
TZNAME:BST
DTSTART:20260329T010000
END:DAYLIGHT
BEGIN:STANDARD
TZOFFSETFROM:+0100
TZOFFSETTO:+0000
TZNAME:GMT
DTSTART:20261025T010000
END:STANDARD
END:VTIMEZONE
BEGIN:VEVENT
DTSTART;TZID=Europe/London:20250312T083000
DTEND;TZID=Europe/London:20250312T113000
DTSTAMP:20260425T234513
CREATED:20241120T164922Z
LAST-MODIFIED:20241120T164922Z
UID:318518-1741768200-1741779000@www.pimfa.co.uk
SUMMARY:Unlocking the Potential of Private Markets in Wealth Management
DESCRIPTION:Join Mercer for an insightful event designed specifically for wealth managers looking to enhance their understanding and implementation of private market investments. This gathering will provide a unique opportunity to explore the evolving landscape of private markets and their integration into wealth management strategies. \nJoined by guest speakers\, Mercer will explore: \n• Insights from a real-world example of how to implement private market solutions for clients\n• CIO perspectives on private markets and challenges of portfolio integration\n• How to incorporate both illiquid and liquid asset classes into a Strategic Asset Allocation framework\n• Key considerations and due diligence practices when allocating to General Partners in private markets \nThis event is tailored for select wealth managers who are eager to unlock the potential of private markets and enhance their investment strategies. Whether you are looking to deepen your knowledge\, network with peers\, or gain practical insights\, this event promises to deliver valuable content and connections. \nTo book and for more information click here
URL:https://www.pimfa.co.uk/event/unlocking-the-potential-of-private-markets-in-wealth-management/
CATEGORIES:Industry Events
ATTACH;FMTTYPE=image/jpeg:https://www.pimfa.co.uk/wp-content/uploads/2024/02/daiga-ellaby-CBJDURrRKA-unsplash-scaled.jpg
END:VEVENT
BEGIN:VEVENT
DTSTART;TZID=Europe/London:20250319T083000
DTEND;TZID=Europe/London:20250319T130000
DTSTAMP:20260425T234513
CREATED:20250120T111822Z
LAST-MODIFIED:20250120T111920Z
UID:320838-1742373000-1742389200@www.pimfa.co.uk
SUMMARY:Scotsman Investment Business Breakfast
DESCRIPTION:  \nThe Scotsman Investment Business Breakfast will show investors how to best position themselves in the financial year to come. This year’s conference will cover a wide range of themes\, such as impacts of global shifts on investment\, trends for 2025\, the importance of sustainability and alternative investments. \nThe 2025 event will be a breakfast event providing the opportunity to discuss and debate a broad spectrum of investment-related issues in the current economic climate\, with a focus on the future. \nFor more details\, please get in touch with the event manager\, Cameron Henderson- cameron.henderson@nationalworld.com
URL:https://www.pimfa.co.uk/event/scotsman-investment-business-breakfast/
CATEGORIES:Industry Events
ATTACH;FMTTYPE=image/jpeg:https://www.pimfa.co.uk/wp-content/uploads/2024/11/iStock-1389006783-scaled.jpg
END:VEVENT
END:VCALENDAR