

BEGIN:VCALENDAR
VERSION:2.0
PRODID:-//PIMFA - Building Personal Financial Futures - ECPv6.15.20//NONSGML v1.0//EN
CALSCALE:GREGORIAN
METHOD:PUBLISH
X-WR-CALNAME:PIMFA - Building Personal Financial Futures
X-ORIGINAL-URL:https://www.pimfa.co.uk
X-WR-CALDESC:Events for PIMFA - Building Personal Financial Futures
REFRESH-INTERVAL;VALUE=DURATION:PT1H
X-Robots-Tag:noindex
X-PUBLISHED-TTL:PT1H
BEGIN:VTIMEZONE
TZID:Europe/London
BEGIN:DAYLIGHT
TZOFFSETFROM:+0000
TZOFFSETTO:+0100
TZNAME:BST
DTSTART:20240331T010000
END:DAYLIGHT
BEGIN:STANDARD
TZOFFSETFROM:+0100
TZOFFSETTO:+0000
TZNAME:GMT
DTSTART:20241027T010000
END:STANDARD
BEGIN:DAYLIGHT
TZOFFSETFROM:+0000
TZOFFSETTO:+0100
TZNAME:BST
DTSTART:20250330T010000
END:DAYLIGHT
BEGIN:STANDARD
TZOFFSETFROM:+0100
TZOFFSETTO:+0000
TZNAME:GMT
DTSTART:20251026T010000
END:STANDARD
BEGIN:DAYLIGHT
TZOFFSETFROM:+0000
TZOFFSETTO:+0100
TZNAME:BST
DTSTART:20260329T010000
END:DAYLIGHT
BEGIN:STANDARD
TZOFFSETFROM:+0100
TZOFFSETTO:+0000
TZNAME:GMT
DTSTART:20261025T010000
END:STANDARD
END:VTIMEZONE
BEGIN:VEVENT
DTSTART;TZID=Europe/London:20250130T100000
DTEND;TZID=Europe/London:20250130T110000
DTSTAMP:20260426T023842
CREATED:20250122T114954Z
LAST-MODIFIED:20250122T114954Z
UID:321036-1738231200-1738234800@www.pimfa.co.uk
SUMMARY:O-IM Three Years Of Solid Performance
DESCRIPTION:O-IM’s Investment Team will reflect on their three-year track record\, discuss the key drivers behind the performance\, and share their outlook for the months ahead. \nFor more information contact john.muir@o-im.co.uk\, 07821 535587 or click here.
URL:https://www.pimfa.co.uk/event/o-im-three-years-of-solid-performance/
CATEGORIES:Industry Events
ATTACH;FMTTYPE=image/png:https://www.pimfa.co.uk/wp-content/uploads/2024/11/Groups-Banner-Public.png
END:VEVENT
BEGIN:VEVENT
DTSTART;TZID=Europe/London:20250130T103000
DTEND;TZID=Europe/London:20250130T113000
DTSTAMP:20260426T023842
CREATED:20250120T112158Z
LAST-MODIFIED:20250120T112158Z
UID:320472-1738233000-1738236600@www.pimfa.co.uk
SUMMARY:Operational Resilience: Protect Investors & Enhance Compliance
DESCRIPTION:Disruptions to critical\, or important business services can have far-reaching consequences not just for the financial services\, but national economies and consumers. \nIn this event\, Ruleguard provides a snapshot of the UK’s operational resilience framework\, outlines key requirements of the EU’s Digital Operational Resilience Act (DORA) and how operational resilience aids transparency and builds trust with consumers. \nFor further information click here.
URL:https://www.pimfa.co.uk/event/operational-resilience-protect-investors-enhance-compliance/
CATEGORIES:Industry Events
ATTACH;FMTTYPE=image/jpeg:https://www.pimfa.co.uk/wp-content/uploads/2024/10/iStock-666036894-scaled.jpg
END:VEVENT
END:VCALENDAR