

BEGIN:VCALENDAR
VERSION:2.0
PRODID:-//PIMFA - Building Personal Financial Futures - ECPv6.15.18//NONSGML v1.0//EN
CALSCALE:GREGORIAN
METHOD:PUBLISH
X-WR-CALNAME:PIMFA - Building Personal Financial Futures
X-ORIGINAL-URL:https://www.pimfa.co.uk
X-WR-CALDESC:Events for PIMFA - Building Personal Financial Futures
REFRESH-INTERVAL;VALUE=DURATION:PT1H
X-Robots-Tag:noindex
X-PUBLISHED-TTL:PT1H
BEGIN:VTIMEZONE
TZID:Europe/London
BEGIN:DAYLIGHT
TZOFFSETFROM:+0000
TZOFFSETTO:+0100
TZNAME:BST
DTSTART:20230326T010000
END:DAYLIGHT
BEGIN:STANDARD
TZOFFSETFROM:+0100
TZOFFSETTO:+0000
TZNAME:GMT
DTSTART:20231029T010000
END:STANDARD
BEGIN:DAYLIGHT
TZOFFSETFROM:+0000
TZOFFSETTO:+0100
TZNAME:BST
DTSTART:20240331T010000
END:DAYLIGHT
BEGIN:STANDARD
TZOFFSETFROM:+0100
TZOFFSETTO:+0000
TZNAME:GMT
DTSTART:20241027T010000
END:STANDARD
BEGIN:DAYLIGHT
TZOFFSETFROM:+0000
TZOFFSETTO:+0100
TZNAME:BST
DTSTART:20250330T010000
END:DAYLIGHT
BEGIN:STANDARD
TZOFFSETFROM:+0100
TZOFFSETTO:+0000
TZNAME:GMT
DTSTART:20251026T010000
END:STANDARD
END:VTIMEZONE
BEGIN:VEVENT
DTSTART;TZID=Europe/London:20240125T110000
DTEND;TZID=Europe/London:20240125T120000
DTSTAMP:20260421T051130
CREATED:20230912T090335Z
LAST-MODIFIED:20251119T091306Z
UID:294950-1706180400-1706184000@www.pimfa.co.uk
SUMMARY:PIMFA Webinar: Climate change and Financial Crime: A vicious cycle
DESCRIPTION:Join financial crime platform Themis as they take you through the links between financial crime and climate change\, demonstrating why the ‘S’ and the ‘G’ of ESG are just as important for firms’ climate change efforts as the ‘E’. \nIn this FREE 60-minute webinar\, we look at how financial crime harms the environment and contributes to climate change\, and how\, in a vicious cycle\, climate change is further fuelling financial crime worldwide. We also discuss how firms can help reduce their carbon footprint and damaging environmental impacts through their anti-financial crime efforts; for example\, through adequate supply chain risk assessment\, customer due diligence and responsible investment. \nThis webinar will help you understand: \n– The links between financial crime and climate change\n– Why tackling financial crime is just as important for the ‘E’ as the ‘S’ and the ‘G’ in ESG\n– Some of the ways you can address climate change and your carbon footprint through anti-financial crime efforts
URL:https://www.pimfa.co.uk/event/pimfa-webinar-climate-change-and-financial-crime-a-vicious-cycle/
CATEGORIES:Learning,Webinars
ATTACH;FMTTYPE=image/jpeg:https://www.pimfa.co.uk/wp-content/uploads/2023/06/pexels-kammeran-gonzalezkeola-7925914-scaled.jpg
END:VEVENT
END:VCALENDAR