

BEGIN:VCALENDAR
VERSION:2.0
PRODID:-//PIMFA - Building Personal Financial Futures - ECPv6.15.18//NONSGML v1.0//EN
CALSCALE:GREGORIAN
METHOD:PUBLISH
X-WR-CALNAME:PIMFA - Building Personal Financial Futures
X-ORIGINAL-URL:https://www.pimfa.co.uk
X-WR-CALDESC:Events for PIMFA - Building Personal Financial Futures
REFRESH-INTERVAL;VALUE=DURATION:PT1H
X-Robots-Tag:noindex
X-PUBLISHED-TTL:PT1H
BEGIN:VTIMEZONE
TZID:Europe/London
BEGIN:DAYLIGHT
TZOFFSETFROM:+0000
TZOFFSETTO:+0100
TZNAME:BST
DTSTART:20220327T010000
END:DAYLIGHT
BEGIN:STANDARD
TZOFFSETFROM:+0100
TZOFFSETTO:+0000
TZNAME:GMT
DTSTART:20221030T010000
END:STANDARD
BEGIN:DAYLIGHT
TZOFFSETFROM:+0000
TZOFFSETTO:+0100
TZNAME:BST
DTSTART:20230326T010000
END:DAYLIGHT
BEGIN:STANDARD
TZOFFSETFROM:+0100
TZOFFSETTO:+0000
TZNAME:GMT
DTSTART:20231029T010000
END:STANDARD
BEGIN:DAYLIGHT
TZOFFSETFROM:+0000
TZOFFSETTO:+0100
TZNAME:BST
DTSTART:20240331T010000
END:DAYLIGHT
BEGIN:STANDARD
TZOFFSETFROM:+0100
TZOFFSETTO:+0000
TZNAME:GMT
DTSTART:20241027T010000
END:STANDARD
END:VTIMEZONE
BEGIN:VEVENT
DTSTART;TZID=Europe/London:20231204T124500
DTEND;TZID=Europe/London:20231204T134500
DTSTAMP:20260421T063222
CREATED:20231026T094249Z
LAST-MODIFIED:20251113T171713Z
UID:297842-1701693900-1701697500@www.pimfa.co.uk
SUMMARY:PIMFA Webinar: Authentic Leadership Programme 'Find out more' January 2024
DESCRIPTION:We would like to invite you to discover more about PIMFA’s  ‘Authentic Leadership: How to Thrive as a Female Leader in Wealth and Finance’ programme with this FREE 60 minute\, no obligation webinar. \nIn this webinar with executive coach Caroline Holt\, you will: \n• Find out if the programme is appropriate for you or your colleagues\n• Hear about women graduates who have completed the programme\n• Get your questions answered about the programme – what you will get from it\, how it all works\, the admission process and fees\n• Discover how this programme differs from other Women in Leadership programmes for women
URL:https://www.pimfa.co.uk/event/pimfa-webinar-authentic-leadership-programme-5-find-out-more-november-2023-2-2/
CATEGORIES:Learning,Webinars
ATTACH;FMTTYPE=image/jpeg:https://www.pimfa.co.uk/wp-content/uploads/2023/06/ravi-pinisetti-1zikZJVXSfA-unsplash-scaled.jpg
END:VEVENT
BEGIN:VEVENT
DTSTART;TZID=Europe/London:20231204T124500
DTEND;TZID=Europe/London:20231204T134500
DTSTAMP:20260421T063222
CREATED:20251113T171818Z
LAST-MODIFIED:20251113T171818Z
UID:304958-1701693900-1701697500@www.pimfa.co.uk
SUMMARY:PIMFA Webinar: Authentic Leadership Programme 'Find out more' November 2023-2
DESCRIPTION:We would like to invite you to discover more about PIMFA’s  ‘Authentic Leadership: How to Thrive as a Female Leader in Wealth and Finance’ programme with this FREE 60 minute\, no obligation webinar. \nIn this webinar with executive coach Caroline Holt\, you will: \n• Find out if the programme is appropriate for you or your colleagues\n• Hear about women graduates who have completed the programme\n• Get your questions answered about the programme – what you will get from it\, how it all works\, the admission process and fees\n• Discover how this programme differs from other Women in Leadership programmes for women
URL:https://www.pimfa.co.uk/event/pimfa-webinar-authentic-leadership-programme-5-find-out-more-november-2023-2/
CATEGORIES:Learning,Webinars
ATTACH;FMTTYPE=image/jpeg:https://www.pimfa.co.uk/wp-content/uploads/2023/06/ravi-pinisetti-1zikZJVXSfA-unsplash-scaled.jpg
END:VEVENT
BEGIN:VEVENT
DTSTART;TZID=Europe/London:20231212T110000
DTEND;TZID=Europe/London:20231212T120000
DTSTAMP:20260421T063222
CREATED:20231026T095839Z
LAST-MODIFIED:20260311T105211Z
UID:295504-1702378800-1702382400@www.pimfa.co.uk
SUMMARY:PIMFA Webinar: Subject Access Requests: How To Recognise\, Handle and Respond Proportionately!
DESCRIPTION:According to a recent survey\, ‘60% of professionals surveyed across financial services have reported an increase in DSARs over the past year’ and ‘51% have received complaints from data subjects about a data subject access request (DSARs)’. \nThis is not surprising – customers and clients who are unhappy\, or want to find out information which is held on them\, are more cognisant than ever of their rights under DSARS\, and very few employee disputes these days come unaccompanied by a DSAR. \nGiven this\, and the fact that DSARs can be a significant drain on resources and can (very importantly) lead to the provision of information and documentation which was never intended to be made public\, they need to be managed carefully. \nIn this FREE 60-minute webinar\, Richard Preece will speak to Chris Holme and Sarah Riceman from Clyde & Co. They have been managing DSARs (including in relation to large disputes)\, and complaints\, between them for 20 years – and have a huge body of experience around how to manage DSARs\, the legal requirements\, and the ICO’s expectations.  They will discuss how PIMFA member firms can: \n\nReact and respond to a DSAR with professionalism and speed\nEnsure they are correctly identifying and redacting information so as to not disclose any information the requester is not entitled to\nIdentify when a request is manifestly unfounded and excessive and respond appropriately\nRegardless of size\, have effective management in place to efficiently respond to DSARs\nBe prepared for any regulatory scrutiny and enforcement action when handling DSARs
URL:https://www.pimfa.co.uk/event/pimfa-webinar-subject-access-requests-how-to-recognise-handle-and-respond-proportionately/
CATEGORIES:Learning,Webinars
ATTACH;FMTTYPE=image/jpeg:https://www.pimfa.co.uk/wp-content/uploads/2023/09/sunset-1220040_1280.jpg
END:VEVENT
BEGIN:VEVENT
DTSTART;TZID=Europe/London:20231213T140000
DTEND;TZID=Europe/London:20231213T180000
DTSTAMP:20260421T063222
CREATED:20230425T105001Z
LAST-MODIFIED:20251113T170124Z
UID:276638-1702476000-1702490400@www.pimfa.co.uk
SUMMARY:PIMFA Under 40 Forum 2023
DESCRIPTION:For the past 6 years\, PIMFA has run the Millennial forum of individuals from our membership. This has since become the Under 40 Leadership Committee. Its purpose is to bring together bright minds to debate\, research and consider pressing issues facing our industry. Their findings result in a report\, which is published and widely circulated. You can download the 2022 report here \nAt the event on December 13\, The Under 40 Forum members will be presenting their findings from their work this year\, including topics which affect our industry. The day will also welcome industry expert speakers. \nThis event is free for PIMFA members to attend. \nIf you are interested in attending please contact the team on events@pimfa.co.uk – places are limited and will be allocated on a first-come\, first-served basis. \nEvent Details:\nDate: 13 December 2023\nTimes: 14:00 – 18:00\nVenue: Fidelity International\, 4 Cannon Street. EC4M 5AB
URL:https://www.pimfa.co.uk/event/pimfa-under-40-forum-2023/
CATEGORIES:PIMFA Events
ATTACH;FMTTYPE=image/jpeg:https://www.pimfa.co.uk/wp-content/uploads/2022/08/su-san-lee-g3PyXO4A0yc-unsplash-1-scaled.jpg
END:VEVENT
BEGIN:VEVENT
DTSTART;TZID=Europe/London:20231214T100000
DTEND;TZID=Europe/London:20231214T150000
DTSTAMP:20260421T063222
CREATED:20231023T120501Z
LAST-MODIFIED:20251120T131247Z
UID:297624-1702548000-1702566000@www.pimfa.co.uk
SUMMARY:PIMFA Regional Roadshow - Bristol (December 2023)
DESCRIPTION:Following March’s successful Roadshow\, the PIMFA team are heading back to Bristol for another Regional. \nThe PIMFA team\, along with our guest speakers\, are looking forward to greeting attendees on the day. \nOur Roadshows provide you with the opportunity to meet and listen to SME’s on relevant industry topics.  This time we will be covering: \nAgenda: \n10:00-10:30 – Registration & Coffee \n10:30-11:00 – Regulatory Update – Alexandra Roberts\, Head of Regulatory Policy and Compliance (PIMFA) \n11:00-12:00 – Understanding Cyber Risk Management in a regulated industry  – Kerrie Machin\, Partner\, & Head of Business Development\, (MITIGO) \n12:00-12:30 – How local philanthropy advice can improve your client relationships – Angela Emms\, Philanthropy Manager (Quartet Community Foundation) \n12:30-13:15 – Networking Lunch \n13:15-13:45 – Pitfalls and product confidence under the consumer duty lens – Thomas Yates\, Communications Consultant\, (Computershare) \n13:45- 14:15 – Overcoming data quality issues to deliver positive outcomes – Duncan Stevens\, Co-Founder & CEO (Gretel) \n14:15 – 15:00 – Consumer Duty Update – Monitoring\, Testing\, MI & Assurance – Daren Allen\, Partner (Shoosmiths) \nVenue: Computershare\, The Pavilions\, Bridgwater Road\, Bristol BS99 6ZZ \nNetworking opportunities will be available. \nAttendees will receive 3 hours of CPD for full attendance.  Delegates that do not stay for the entirety of the day will not be allocated CPD hours.
URL:https://www.pimfa.co.uk/event/pimfa-regional-roadshow-bristol-december-2023/
CATEGORIES:Briefing,PIMFA Events
ATTACH;FMTTYPE=image/jpeg:https://www.pimfa.co.uk/wp-content/uploads/2023/10/mohammad-alizade-62t_kKa2YlA-unsplash-scaled.jpg
END:VEVENT
BEGIN:VEVENT
DTSTART;TZID=Europe/London:20231214T110000
DTEND;TZID=Europe/London:20231214T120000
DTSTAMP:20260421T063222
CREATED:20231201T201756Z
LAST-MODIFIED:20251119T095747Z
UID:303408-1702551600-1702555200@www.pimfa.co.uk
SUMMARY:PIMFA Webinar: Get up to date on the SDR and investment labels final rules and guidance
DESCRIPTION:Join us for a webinar discussion on the Sustainability Disclosure Requirements and investment labels regime and a deep dive into the final rules and guidance. The Sustainability Disclosure Requirements and investment labels regime aims to help consumers navigate the market for sustainable investment products. The rules introduce: \n\nAn anti-greenwashing rule for all FCA-authorised firms. The FCA is also   consulting on supporting guidance.\nNaming and marketing rules for investment products\, to ensure the use of sustainability-related terms is accurate.\nFour labels to help consumers navigate the investment product landscape and enhance consumer trust.\nConsumer-facing information to provide consumers with more accessible information.\nDetailed information targeted at institutional investors and consumers seeking more information in pre-contractual\, ongoing product-level\, and entity-level disclosures.\nRequirements for distributors to ensure that product-level information (including the labels) is made available to consumers.
URL:https://www.pimfa.co.uk/event/pimfa-webinar-get-up-to-date-on-the-sdr-and-investment-labels-final-rules-and-guidance/
CATEGORIES:Learning,Webinars
ATTACH;FMTTYPE=image/jpeg:https://www.pimfa.co.uk/wp-content/uploads/2023/10/pexels-jeff-vinluan-9223080-scaled.jpg
END:VEVENT
END:VCALENDAR