

BEGIN:VCALENDAR
VERSION:2.0
PRODID:-//PIMFA - Building Personal Financial Futures - ECPv6.15.18//NONSGML v1.0//EN
CALSCALE:GREGORIAN
METHOD:PUBLISH
X-ORIGINAL-URL:https://www.pimfa.co.uk
X-WR-CALDESC:Events for PIMFA - Building Personal Financial Futures
REFRESH-INTERVAL;VALUE=DURATION:PT1H
X-Robots-Tag:noindex
X-PUBLISHED-TTL:PT1H
BEGIN:VTIMEZONE
TZID:Europe/London
BEGIN:DAYLIGHT
TZOFFSETFROM:+0000
TZOFFSETTO:+0100
TZNAME:BST
DTSTART:20250330T010000
END:DAYLIGHT
BEGIN:STANDARD
TZOFFSETFROM:+0100
TZOFFSETTO:+0000
TZNAME:GMT
DTSTART:20251026T010000
END:STANDARD
BEGIN:DAYLIGHT
TZOFFSETFROM:+0000
TZOFFSETTO:+0100
TZNAME:BST
DTSTART:20260329T010000
END:DAYLIGHT
BEGIN:STANDARD
TZOFFSETFROM:+0100
TZOFFSETTO:+0000
TZNAME:GMT
DTSTART:20261025T010000
END:STANDARD
BEGIN:DAYLIGHT
TZOFFSETFROM:+0000
TZOFFSETTO:+0100
TZNAME:BST
DTSTART:20270328T010000
END:DAYLIGHT
BEGIN:STANDARD
TZOFFSETFROM:+0100
TZOFFSETTO:+0000
TZNAME:GMT
DTSTART:20271031T010000
END:STANDARD
BEGIN:DAYLIGHT
TZOFFSETFROM:+0000
TZOFFSETTO:+0100
TZNAME:BST
DTSTART:20280326T010000
END:DAYLIGHT
BEGIN:STANDARD
TZOFFSETFROM:+0100
TZOFFSETTO:+0000
TZNAME:GMT
DTSTART:20281029T010000
END:STANDARD
BEGIN:DAYLIGHT
TZOFFSETFROM:+0000
TZOFFSETTO:+0100
TZNAME:BST
DTSTART:20290325T010000
END:DAYLIGHT
BEGIN:STANDARD
TZOFFSETFROM:+0100
TZOFFSETTO:+0000
TZNAME:GMT
DTSTART:20291028T010000
END:STANDARD
END:VTIMEZONE
BEGIN:VEVENT
DTSTART;TZID=Europe/London:20261125T120000
DTEND;TZID=Europe/London:20261125T190000
DTSTAMP:20260420T050120
CREATED:20251215T105337Z
LAST-MODIFIED:20260204T134609Z
UID:346856-1795608000-1795633200@www.pimfa.co.uk
SUMMARY:Senior Leadership Summit 2026
DESCRIPTION:The event is open to senior member firm colleagues and strictly by invitation only. The aim is to provide a forum where relevant content will be presented and an opportunity for you to network with your peers will be provided. \nThe event is open to Wealth Management firms CEOs and nominated guests only. \nIf you have any interest in sponsoring or have any questions about this event please email events@pimfa.co.uk
URL:https://www.pimfa.co.uk/event/senior-leadership-summit-2026/
LOCATION:IET London\, 2 Savoy Place\, London\, WC2R 0BL\, United Kingdom
CATEGORIES:PIMFA Events,Summit
ATTACH;FMTTYPE=image/png:https://www.pimfa.co.uk/wp-content/uploads/2025/06/Conference-favicon-web-dark.png
END:VEVENT
BEGIN:VEVENT
DTSTART;TZID=Europe/London:20280928T080000
DTEND;TZID=Europe/London:20280928T170000
DTSTAMP:20260420T050120
CREATED:20250828T083517Z
LAST-MODIFIED:20260127T152009Z
UID:336303-1853740800-1853773200@www.pimfa.co.uk
SUMMARY:AI for Wealth Management: From Curiosity to Confidence
DESCRIPTION:AI is reshaping wealth management\, but many advice firms are stuck at the exploration stage. This one-day in-house training course prepares your leaders\, managers\, and team members to transition from curiosity to confident adoption\, providing practical insights into how AI supports client service\, compliance\, operations\, and investment advice. \nOur expert trainer Richard Preece demystifies AI\, focusing on real-world use cases from UK advice firms\, regulatory implications\, and the leadership mindsets required for successful adoption. Whether you’re a senior manager shaping digital strategy or a compliance officer navigating new risks\, you’ll gain the insight and language needed to lead informed conversations about AI in your firm. \nCourse Information: \nDelivered in-house\, this course is fully flexible to your preferred date and location. \nDuration: One Day (9:30am – 4:30pm)\nFormat: In-person or virtual delivery course that’s tailored to your specific needs\nTarget Audience: CEOs\, Partners\, COOs\, Investment Managers\, Heads of Compliance\, and Client Service Directors who want to explore AI confidently and responsibly.\nMax # of participants: 15\nFee: Available on request \nEnquiries: To find out more about this in house course contact learning@pimfa.co.uk
URL:https://www.pimfa.co.uk/event/ai-for-wealth-management-from-curiosity-to-confidence/
CATEGORIES:Learning,On Site Training
ATTACH;FMTTYPE=image/png:https://www.pimfa.co.uk/wp-content/uploads/2025/07/AI-favicon-copy-01-scaled.png
END:VEVENT
END:VCALENDAR