

BEGIN:VCALENDAR
VERSION:2.0
PRODID:-//PIMFA - Building Personal Financial Futures - ECPv6.15.20//NONSGML v1.0//EN
CALSCALE:GREGORIAN
METHOD:PUBLISH
X-WR-CALNAME:PIMFA - Building Personal Financial Futures
X-ORIGINAL-URL:https://www.pimfa.co.uk
X-WR-CALDESC:Events for PIMFA - Building Personal Financial Futures
REFRESH-INTERVAL;VALUE=DURATION:PT1H
X-Robots-Tag:noindex
X-PUBLISHED-TTL:PT1H
BEGIN:VTIMEZONE
TZID:Europe/London
BEGIN:DAYLIGHT
TZOFFSETFROM:+0000
TZOFFSETTO:+0100
TZNAME:BST
DTSTART:20220327T010000
END:DAYLIGHT
BEGIN:STANDARD
TZOFFSETFROM:+0100
TZOFFSETTO:+0000
TZNAME:GMT
DTSTART:20221030T010000
END:STANDARD
BEGIN:DAYLIGHT
TZOFFSETFROM:+0000
TZOFFSETTO:+0100
TZNAME:BST
DTSTART:20230326T010000
END:DAYLIGHT
BEGIN:STANDARD
TZOFFSETFROM:+0100
TZOFFSETTO:+0000
TZNAME:GMT
DTSTART:20231029T010000
END:STANDARD
BEGIN:DAYLIGHT
TZOFFSETFROM:+0000
TZOFFSETTO:+0100
TZNAME:BST
DTSTART:20240331T010000
END:DAYLIGHT
BEGIN:STANDARD
TZOFFSETFROM:+0100
TZOFFSETTO:+0000
TZNAME:GMT
DTSTART:20241027T010000
END:STANDARD
END:VTIMEZONE
BEGIN:VEVENT
DTSTART;TZID=Europe/London:20230301T100000
DTEND;TZID=Europe/London:20230301T110000
DTSTAMP:20260424T040617
CREATED:20230227T105021Z
LAST-MODIFIED:20231002T073625Z
UID:266765-1677664800-1677668400@www.pimfa.co.uk
SUMMARY:EISA Webinar for Financial Advisers
DESCRIPTION:Register now for this free\, one-hour webinar (10am-11am) on EIS investment for financial advisers from the Enterprise Investment Scheme Association. \nPlease register here \nDuring the webinar\, our host and expert panellists will discuss: \n✅ An overview of what investing in an EIS fund looks like\n✅ Key considerations when investing\n✅ Examples of investee companies \nThe webinar will be hosted by EISA Director General Christiana Stewart-Lockhart\, and will feature: \n-️ Alistair Marsden (Director\, Nova Growth Capital)\n-️ Andrew Noble (Partner\, Par Equity)\n-️ Jeffrey Faustin (Chief Investment Officer\, Jenson)\n-️ Jessica Franks (Head of Investment Products\, Octopus Investments)\n-️ John Glencross (CEO and Co-Founder\, Calculus Capital)\n-️ Sunil Shah (CEO\, o2h Ventures) \nThis will be followed by a Q&A session\, where attendees will be welcome to ask our panellists questions. \nThe webinar is fully CISI CPD qualifying for attendees \nThe webinar is a production of the Enterprise Investment Scheme Association (EISA)\, the official membership organisation for the Enterprise Investment Scheme and the Seed Enterprise Investment Scheme. \nWith thanks to our sponsors Calculus Capital\, Jenson Funding Partners\, Nova Growth Capital\, Octopus Investments\, 02h Ventures and Par Equity. \nTo register your place click here \nPlease note: We\, the EISA\, may share your personal data with third parties in certain circumstances including (but not limited to) our sponsors. Before we disclose personal data to a third party\, we take appropriate steps to ensure that the third party will protect personal data in accordance with applicable privacy laws and in a manner consistent with our privacy policy\, which can be accessed here: https://eisa.org.uk/about-eisa/privacy-policy/ \nFor further information please contact Mary Rodgers at mary.rodgers@eisa.org.uk
URL:https://www.pimfa.co.uk/event/eis-webinar-for-financial-advisers/
CATEGORIES:Industry Events
ATTACH;FMTTYPE=image/png:https://www.pimfa.co.uk/wp-content/uploads/2023/02/Advisers.png
END:VEVENT
BEGIN:VEVENT
DTSTART;TZID=Europe/London:20230228T103000
DTEND;TZID=Europe/London:20230228T153000
DTSTAMP:20260424T040617
CREATED:20230118T180528Z
LAST-MODIFIED:20251120T131057Z
UID:260753-1677580200-1677598200@www.pimfa.co.uk
SUMMARY:PIMFA Regional Roadshow - Leeds
DESCRIPTION:The PIMFA team  is taking to the road for the first regional roadshow of 2023. We\, along with our event partner MITIGO Cyber Security are looking  forward to meeting registered participants at our host partner Shoosmiths LLP’s offices in central Leeds. \nPIMFA Roadshows provide attendees with the opportunity to meet and listen to SME’s on relevant industry topics\, this time we will be covering: \n\nConsumer Duty       Jonathon Crook and Daren Allen (Shoosmiths)\nNormalising Mental Health         Chris Clarke (Chasing the Stigma)\nCyber Resilience        Kerrie Machin (MITIGO Cyber Security)\nComprehensive Regulatory Update        Alexandra Roberts (PIMFA)\n\nNetworking opportunities will also be available.\nAttendees will receive 3 hours of CPD for full attendance. \nShoosmiths LLP\, Platform Building\, 9th Floor\, New Station St\, Leeds LS1 4JB 
URL:https://www.pimfa.co.uk/event/pimfa-regional-roadshow-leeds-2023/
CATEGORIES:PIMFA Events
ATTACH;FMTTYPE=image/png:https://www.pimfa.co.uk/wp-content/uploads/2022/07/ESG-image.png
END:VEVENT
BEGIN:VEVENT
DTSTART;TZID=Europe/London:20230112T163000
DTEND;TZID=Europe/London:20230112T173000
DTSTAMP:20260424T040617
CREATED:20230106T120941Z
LAST-MODIFIED:20251120T130447Z
UID:258952-1673541000-1673544600@www.pimfa.co.uk
SUMMARY:PIMFA Webinar: Authentic Leadership Programme 5 'Find out more'  2023 Session 5
DESCRIPTION:We would like to invite you to discover more about PIMFA’s  ‘Authentic Leadership: How to Thrive as a Female Leader in Wealth and Finance’ programme with this FREE 60 minute\, no obligation webinar. \nIn this webinar with executive coach Caroline Holt\, you will: \n• Find out if the programme is appropriate for you or your colleagues\n• Hear about women graduates who have completed the programme\n• Get your questions answered about the programme – what you will get from it\, how it all works\, the admission process and fees\n• Discover how this programme differs from other Women in Leadership programmes for women
URL:https://www.pimfa.co.uk/event/pimfa-webinar-authentibc-leadership-programme-5-find-out-more-sep-2022-session5/
CATEGORIES:Learning
ATTACH;FMTTYPE=image/jpeg:https://www.pimfa.co.uk/wp-content/uploads/2022/06/renato-pozzi-G4oGYy_ZcsQ-unsplash-scaled.jpg
END:VEVENT
END:VCALENDAR