

BEGIN:VCALENDAR
VERSION:2.0
PRODID:-//PIMFA - Building Personal Financial Futures - ECPv6.15.20//NONSGML v1.0//EN
CALSCALE:GREGORIAN
METHOD:PUBLISH
X-WR-CALNAME:PIMFA - Building Personal Financial Futures
X-ORIGINAL-URL:https://www.pimfa.co.uk
X-WR-CALDESC:Events for PIMFA - Building Personal Financial Futures
REFRESH-INTERVAL;VALUE=DURATION:PT1H
X-Robots-Tag:noindex
X-PUBLISHED-TTL:PT1H
BEGIN:VTIMEZONE
TZID:Europe/London
BEGIN:DAYLIGHT
TZOFFSETFROM:+0000
TZOFFSETTO:+0100
TZNAME:BST
DTSTART:20250330T010000
END:DAYLIGHT
BEGIN:STANDARD
TZOFFSETFROM:+0100
TZOFFSETTO:+0000
TZNAME:GMT
DTSTART:20251026T010000
END:STANDARD
BEGIN:DAYLIGHT
TZOFFSETFROM:+0000
TZOFFSETTO:+0100
TZNAME:BST
DTSTART:20260329T010000
END:DAYLIGHT
BEGIN:STANDARD
TZOFFSETFROM:+0100
TZOFFSETTO:+0000
TZNAME:GMT
DTSTART:20261025T010000
END:STANDARD
BEGIN:DAYLIGHT
TZOFFSETFROM:+0000
TZOFFSETTO:+0100
TZNAME:BST
DTSTART:20270328T010000
END:DAYLIGHT
BEGIN:STANDARD
TZOFFSETFROM:+0100
TZOFFSETTO:+0000
TZNAME:GMT
DTSTART:20271031T010000
END:STANDARD
END:VTIMEZONE
BEGIN:VEVENT
DTSTART;VALUE=DATE:20260507
DTEND;VALUE=DATE:20260508
DTSTAMP:20260425T033847
CREATED:20260309T125702Z
LAST-MODIFIED:20260327T080148Z
UID:352884-1778112000-1778198399@www.pimfa.co.uk
SUMMARY:Morningstar Investment Conference UK
DESCRIPTION:Morningstar Investment Conference UK – 7 May 2026\, London\nDon’t miss this must-attend event for UK financial advisers\, wealth managers\, and fund selectors! Join us for a full day of curated content\, expert insights\, and practical strategies from industry leaders to help future-proof your firm. Celebrate our 20th edition with us. \n🎟️ Early Bird tickets £19 until 7 April\, then £99. Secure your place today!
URL:https://www.pimfa.co.uk/event/morningstar-investment-conference-uk-3/
CATEGORIES:Industry Events,Symposium, Awards and Networking
ATTACH;FMTTYPE=image/png:https://www.pimfa.co.uk/wp-content/uploads/2011/11/morningstar-SQ.png
END:VEVENT
END:VCALENDAR