

BEGIN:VCALENDAR
VERSION:2.0
PRODID:-//PIMFA - Building Personal Financial Futures - ECPv6.15.20//NONSGML v1.0//EN
CALSCALE:GREGORIAN
METHOD:PUBLISH
X-ORIGINAL-URL:https://www.pimfa.co.uk
X-WR-CALDESC:Events for PIMFA - Building Personal Financial Futures
REFRESH-INTERVAL;VALUE=DURATION:PT1H
X-Robots-Tag:noindex
X-PUBLISHED-TTL:PT1H
BEGIN:VTIMEZONE
TZID:Europe/London
BEGIN:DAYLIGHT
TZOFFSETFROM:+0000
TZOFFSETTO:+0100
TZNAME:BST
DTSTART:20220327T010000
END:DAYLIGHT
BEGIN:STANDARD
TZOFFSETFROM:+0100
TZOFFSETTO:+0000
TZNAME:GMT
DTSTART:20221030T010000
END:STANDARD
BEGIN:DAYLIGHT
TZOFFSETFROM:+0000
TZOFFSETTO:+0100
TZNAME:BST
DTSTART:20230326T010000
END:DAYLIGHT
BEGIN:STANDARD
TZOFFSETFROM:+0100
TZOFFSETTO:+0000
TZNAME:GMT
DTSTART:20231029T010000
END:STANDARD
BEGIN:DAYLIGHT
TZOFFSETFROM:+0000
TZOFFSETTO:+0100
TZNAME:BST
DTSTART:20240331T010000
END:DAYLIGHT
BEGIN:STANDARD
TZOFFSETFROM:+0100
TZOFFSETTO:+0000
TZNAME:GMT
DTSTART:20241027T010000
END:STANDARD
END:VTIMEZONE
BEGIN:VEVENT
DTSTART;TZID=Europe/London:20231012T183000
DTEND;TZID=Europe/London:20231012T230000
DTSTAMP:20260421T230343
CREATED:20230324T103126Z
LAST-MODIFIED:20260327T080215Z
UID:272777-1697135400-1697151600@www.pimfa.co.uk
SUMMARY:PIMFA D&I Awards 2023
DESCRIPTION:PIMFA is the trade association for the wealth management\, investment services and financial advice sector. One of its roles is to promote talent\, diversity and inclusion within this space\, highlight best practice and develop initiatives to help build an industry which better reflects its increasingly diverse customer base. \nThere are many instances of good practice which remain hidden or unrecognised. Businesses both large and small will have examples of innovation aimed at improving their inclusivity and performance\, which in turn drives positive change across the industry. \nFurther\, there is a stream of exceptional\, diverse talent coming up through the ranks in our industry that is changing businesses for the better\, engendering greater support for diverse communities and clients\, and helping to develop and lead innovation. \nWe have launched the PIMFA D&I Awards to celebrate this. \nThe Awards are FREE to enter and open to all firms and stakeholders in the sector – you do not have to be a PIMFA member to enter. \nIf you have any questions about booking your table for the 2023 Awards ceremony\, please contact PIMFA’s Events Team on events@pimfa.co.uk. \nCLICK HERE TO VIEW THE 2023 CATEGORIES AND FURTHER INFORMATION
URL:https://www.pimfa.co.uk/event/pimfa-di-awards-2021-2-2/
CATEGORIES:PIMFA Events,Symposium, Awards and Networking
ATTACH;FMTTYPE=image/jpeg:https://www.pimfa.co.uk/wp-content/uploads/2023/03/MicrosoftTeams-image-2-scaled.jpg
END:VEVENT
END:VCALENDAR