

BEGIN:VCALENDAR
VERSION:2.0
PRODID:-//PIMFA - Building Personal Financial Futures - ECPv6.15.18//NONSGML v1.0//EN
CALSCALE:GREGORIAN
METHOD:PUBLISH
X-ORIGINAL-URL:https://www.pimfa.co.uk
X-WR-CALDESC:Events for PIMFA - Building Personal Financial Futures
REFRESH-INTERVAL;VALUE=DURATION:PT1H
X-Robots-Tag:noindex
X-PUBLISHED-TTL:PT1H
BEGIN:VTIMEZONE
TZID:Europe/London
BEGIN:DAYLIGHT
TZOFFSETFROM:+0000
TZOFFSETTO:+0100
TZNAME:BST
DTSTART:20250330T010000
END:DAYLIGHT
BEGIN:STANDARD
TZOFFSETFROM:+0100
TZOFFSETTO:+0000
TZNAME:GMT
DTSTART:20251026T010000
END:STANDARD
BEGIN:DAYLIGHT
TZOFFSETFROM:+0000
TZOFFSETTO:+0100
TZNAME:BST
DTSTART:20260329T010000
END:DAYLIGHT
BEGIN:STANDARD
TZOFFSETFROM:+0100
TZOFFSETTO:+0000
TZNAME:GMT
DTSTART:20261025T010000
END:STANDARD
BEGIN:DAYLIGHT
TZOFFSETFROM:+0000
TZOFFSETTO:+0100
TZNAME:BST
DTSTART:20270328T010000
END:DAYLIGHT
BEGIN:STANDARD
TZOFFSETFROM:+0100
TZOFFSETTO:+0000
TZNAME:GMT
DTSTART:20271031T010000
END:STANDARD
END:VTIMEZONE
BEGIN:VEVENT
DTSTART;TZID=Europe/London:20260211T140000
DTEND;TZID=Europe/London:20260211T180000
DTSTAMP:20260420T062841
CREATED:20251210T091713Z
LAST-MODIFIED:20260309T134043Z
UID:346403-1770818400-1770832800@www.pimfa.co.uk
SUMMARY:PIMFA Leading Lights Forum 2026
DESCRIPTION:For the past 8 years\, PIMFA has run the Millennial forum of individuals from our membership. This has since become the Leading Lights Forum. \nIts purpose is to bring together bright minds to debate\, research and consider pressing issues facing our industry. Their findings result in a report\, which is published and widely circulated. You can download previous reports and more information on the committee here. \nAt the event on February 11\, 2026\, the Leading Lights members will be presenting their findings from their work this year. The day will also welcome industry expert speakers. \nThis year’s cohort have researched the following topics; the results of their findings will be presented at the event on February 11th: \n\n Unlocking Financial Futures: The Advice Benefit\nDo you Trust Us?\nAI: Evolution\, Revolution or Devastation?\nCompany Culture – Who Even Cares?\n\nPlease note – spaces are extremely limited and open to PIMFA members only.
URL:https://www.pimfa.co.uk/event/pimfa-leading-lights-forum-2026/
LOCATION:DAC Beachcroft\, 25 Walbrook\, London\, EC4N 8AF\, United Kingdom
CATEGORIES:Forum,PIMFA Events
ATTACH;FMTTYPE=image/png:https://www.pimfa.co.uk/wp-content/uploads/2025/06/Leading-Lights-Forum_avatar-dark_web.png
END:VEVENT
END:VCALENDAR