

BEGIN:VCALENDAR
VERSION:2.0
PRODID:-//PIMFA - Building Personal Financial Futures - ECPv6.15.18//NONSGML v1.0//EN
CALSCALE:GREGORIAN
METHOD:PUBLISH
X-ORIGINAL-URL:https://www.pimfa.co.uk
X-WR-CALDESC:Events for PIMFA - Building Personal Financial Futures
REFRESH-INTERVAL;VALUE=DURATION:PT1H
X-Robots-Tag:noindex
X-PUBLISHED-TTL:PT1H
BEGIN:VTIMEZONE
TZID:Europe/London
BEGIN:DAYLIGHT
TZOFFSETFROM:+0000
TZOFFSETTO:+0100
TZNAME:BST
DTSTART:20220327T010000
END:DAYLIGHT
BEGIN:STANDARD
TZOFFSETFROM:+0100
TZOFFSETTO:+0000
TZNAME:GMT
DTSTART:20221030T010000
END:STANDARD
BEGIN:DAYLIGHT
TZOFFSETFROM:+0000
TZOFFSETTO:+0100
TZNAME:BST
DTSTART:20230326T010000
END:DAYLIGHT
BEGIN:STANDARD
TZOFFSETFROM:+0100
TZOFFSETTO:+0000
TZNAME:GMT
DTSTART:20231029T010000
END:STANDARD
BEGIN:DAYLIGHT
TZOFFSETFROM:+0000
TZOFFSETTO:+0100
TZNAME:BST
DTSTART:20240331T010000
END:DAYLIGHT
BEGIN:STANDARD
TZOFFSETFROM:+0100
TZOFFSETTO:+0000
TZNAME:GMT
DTSTART:20241027T010000
END:STANDARD
END:VTIMEZONE
BEGIN:VEVENT
DTSTART;TZID=Europe/London:20230518T100000
DTEND;TZID=Europe/London:20230518T170000
DTSTAMP:20260420T150253
CREATED:20230203T103827Z
LAST-MODIFIED:20251120T131425Z
UID:264605-1684404000-1684429200@www.pimfa.co.uk
SUMMARY:Financial Crime Conference 2023
DESCRIPTION:The PIMFA Financial Crime Conference 2023 gives attendees access to industry leading debates from professionals across the regulatory\, law enforcement\, innovators and providers in the Financial Crime space. \nAs the financial crime landscape evolves with new techniques and technologies\, the growing threat to firms and their clients is undeniable.\nIn response\, regulators are pushing back by implementing stricter controls. Firms need to know how to protect themselves and their clients and what can be done to operate in a safer and more resilient environment. \nThe Conference will be taking place in-person in London and will also be live-streamed. In-person tickets are limited and early booking is recommended. \nEarly-Bird discounted tickets are available until 3 March 2023. \nWhen selecting your ticket below please ensure you are selecting the right type – in-person or virtual. \nTo access the PIMFA member discount you will need to log in to your account first. \nEvent Details:\nDate: 18th May 2023\nTimes: 10:00 – 17:00\nVenue: Shoosmiths\, 1 Bow Churchyard\, London – EC4M 9DQ \n 
URL:https://www.pimfa.co.uk/event/financial-crime-conference-2023/
CATEGORIES:Conference,PIMFA Events
ATTACH;FMTTYPE=image/jpeg:https://www.pimfa.co.uk/wp-content/uploads/2023/02/ken-cheung-KonWFWUaAuk-unsplash-scaled.jpg
END:VEVENT
END:VCALENDAR