

BEGIN:VCALENDAR
VERSION:2.0
PRODID:-//PIMFA - Building Personal Financial Futures - ECPv6.15.20//NONSGML v1.0//EN
CALSCALE:GREGORIAN
METHOD:PUBLISH
X-ORIGINAL-URL:https://www.pimfa.co.uk
X-WR-CALDESC:Events for PIMFA - Building Personal Financial Futures
REFRESH-INTERVAL;VALUE=DURATION:PT1H
X-Robots-Tag:noindex
X-PUBLISHED-TTL:PT1H
BEGIN:VTIMEZONE
TZID:Europe/London
BEGIN:DAYLIGHT
TZOFFSETFROM:+0000
TZOFFSETTO:+0100
TZNAME:BST
DTSTART:20240331T010000
END:DAYLIGHT
BEGIN:STANDARD
TZOFFSETFROM:+0100
TZOFFSETTO:+0000
TZNAME:GMT
DTSTART:20241027T010000
END:STANDARD
BEGIN:DAYLIGHT
TZOFFSETFROM:+0000
TZOFFSETTO:+0100
TZNAME:BST
DTSTART:20250330T010000
END:DAYLIGHT
BEGIN:STANDARD
TZOFFSETFROM:+0100
TZOFFSETTO:+0000
TZNAME:GMT
DTSTART:20251026T010000
END:STANDARD
BEGIN:DAYLIGHT
TZOFFSETFROM:+0000
TZOFFSETTO:+0100
TZNAME:BST
DTSTART:20260329T010000
END:DAYLIGHT
BEGIN:STANDARD
TZOFFSETFROM:+0100
TZOFFSETTO:+0000
TZNAME:GMT
DTSTART:20261025T010000
END:STANDARD
END:VTIMEZONE
BEGIN:VEVENT
DTSTART;TZID=Europe/London:20250520T160000
DTEND;TZID=Europe/London:20250520T183000
DTSTAMP:20260425T114600
CREATED:20241213T121506Z
LAST-MODIFIED:20251113T124640Z
UID:319573-1747756800-1747765800@www.pimfa.co.uk
SUMMARY:PIMFA Associate Members Briefing 2025
DESCRIPTION:Join us for the 2025 Associate Members Briefing on May 20\, 2025.\nWe will explore topics such as regulation\, operations\, taxation and others and provide an opportunity to discuss with PIMFA staff specific issues important to the membership. \nThis event also showcases our ongoing events and publications programme providing examples of how Associates can engage with Members and maximise the value they receive from their membership.\nAttendees will also benefit from networking opportunities with other industry professionals. \nThis event is free for PIMFA Associate Members. To book your place please go to tickets and complete the registration form. If you have any questions please email us on events@pimfa.co.uk \nPlease note – you must be logged in to your PIMFA account in order to see and book your tickets. \nEvent Details:\nDate: 20 May 2025\nVenue: To be announced – central London\nTime: 16:00 – 18:30\nFREE for PIMFA Associate Members
URL:https://www.pimfa.co.uk/event/pimfa-associate-members-briefing-2025/
CATEGORIES:Briefing,PIMFA Events
ATTACH;FMTTYPE=image/png:https://www.pimfa.co.uk/wp-content/uploads/2024/11/Group-Banner.png
END:VEVENT
END:VCALENDAR