

BEGIN:VCALENDAR
VERSION:2.0
PRODID:-//PIMFA - Building Personal Financial Futures - ECPv6.15.18//NONSGML v1.0//EN
CALSCALE:GREGORIAN
METHOD:PUBLISH
X-WR-CALNAME:PIMFA - Building Personal Financial Futures
X-ORIGINAL-URL:https://www.pimfa.co.uk
X-WR-CALDESC:Events for PIMFA - Building Personal Financial Futures
REFRESH-INTERVAL;VALUE=DURATION:PT1H
X-Robots-Tag:noindex
X-PUBLISHED-TTL:PT1H
BEGIN:VTIMEZONE
TZID:Europe/London
BEGIN:DAYLIGHT
TZOFFSETFROM:+0000
TZOFFSETTO:+0100
TZNAME:BST
DTSTART:20240331T010000
END:DAYLIGHT
BEGIN:STANDARD
TZOFFSETFROM:+0100
TZOFFSETTO:+0000
TZNAME:GMT
DTSTART:20241027T010000
END:STANDARD
BEGIN:DAYLIGHT
TZOFFSETFROM:+0000
TZOFFSETTO:+0100
TZNAME:BST
DTSTART:20250330T010000
END:DAYLIGHT
BEGIN:STANDARD
TZOFFSETFROM:+0100
TZOFFSETTO:+0000
TZNAME:GMT
DTSTART:20251026T010000
END:STANDARD
BEGIN:DAYLIGHT
TZOFFSETFROM:+0000
TZOFFSETTO:+0100
TZNAME:BST
DTSTART:20260329T010000
END:DAYLIGHT
BEGIN:STANDARD
TZOFFSETFROM:+0100
TZOFFSETTO:+0000
TZNAME:GMT
DTSTART:20261025T010000
END:STANDARD
END:VTIMEZONE
BEGIN:VEVENT
DTSTART;TZID=Europe/London:20250114T110000
DTEND;TZID=Europe/London:20250114T120000
DTSTAMP:20260421T105636
CREATED:20241107T095055Z
LAST-MODIFIED:20251118T162321Z
UID:317299-1736852400-1736856000@www.pimfa.co.uk
SUMMARY:PIMFA Webinar: CASS: The calm before the s166 storm
DESCRIPTION:Before the FCA initiates a Section 166 review of your firm’s approach to CASS\, the regulator typically takes several preliminary steps to assess your firm’s compliance and risk profile. Yet for many firm’s the regulators actions before a s166 is triggered\, remain a mystery. \nIn this FREE 60-minute webinar\, we unpick the crucial steps leading up to a Section 166 notice\, demystifying the key processes and interactions the FCA undertakes before a review of a firm’s approach to CASS is initiated.\nTo avoid a painful and costly review of your CASS governance and oversight arrangements\, our panel our experts discuss: \n1. How the FCA is conducting routine supervisory activities on your approach to CASS in 2024. \n2. How the regulator uses data from regulatory submissions and reports to assess and manage your firm’s CASS risks. \n3. How a firm’s CASS compliance breaches informs the FCA’s decision-making process. \n4. How to identify and assess issues that could lead to a s166 review of your firm’s CASS culture\, governance\, and organisational arrangements. \n5. How to proactively use market intelligence\, thematic reviews\, and inspections to eliminate weaknesses in your CASS environment.
URL:https://www.pimfa.co.uk/event/pimfa-webinar-cass-the-calm-before-the-s166-storm/
CATEGORIES:Learning,Webinars
ATTACH;FMTTYPE=image/jpeg:https://www.pimfa.co.uk/wp-content/uploads/2024/04/afonso-azevedo-neves-VEJP7CtIhEk-unsplash-scaled.jpg
END:VEVENT
BEGIN:VEVENT
DTSTART;TZID=Europe/London:20250121T110000
DTEND;TZID=Europe/London:20250121T120000
DTSTAMP:20260421T105636
CREATED:20241107T100118Z
LAST-MODIFIED:20251118T162150Z
UID:317999-1737457200-1737460800@www.pimfa.co.uk
SUMMARY:PIMFA Webinar: CASS Skilled Person Review: How to Respond\, Tackle and Avoid Action
DESCRIPTION:The FCA’s Section 166\, “Skilled Person Review\,” is one of the regulator’s go-to tools they’re not afraid to use\, when assessing your firm’s compliance with the CASS rules. No need to be concerned? Think again\, as s166 reviews continuing to rise across the sector\, firms should be in no doubt that the FCA is prepared to appoint an independent third party to conduct a ‘drains up’ review of your approach to CASS. \nEven for the largest firms\, a S166 review is intrusive\, expensive\, time-consuming\, and incredibly resource-intensive as your firm attempts to demonstrate effective risk management and adherence to regulatory standards. \nIn this FREE 60-minute webinar\, we’ve assembled a panel of FCA-appointed skilled persons alongside specialists in CASS compliance to answer your most pressing concerns about the s166 review process. No question is off limits as we tackle: \n1. ‘Help\, we’ve got a s166 notice!’\n2. What to do if The FCA commissions a s166 review\n3. How to get the most from a CASS s166 review\n4. The costs of a skilled person review\n5. The foolishness or wisdom of challenging the findings of a s166 review\n6. The most effective strategies to avoid a skilled person review \n  \n  \n  \n 
URL:https://www.pimfa.co.uk/event/pimfa-webinar-cass-skilled-person-review-how-to-respond-tackle-and-avoid-action/
CATEGORIES:Learning,Webinars
ATTACH;FMTTYPE=image/jpeg:https://www.pimfa.co.uk/wp-content/uploads/2024/10/iStock-666036894-scaled.jpg
END:VEVENT
END:VCALENDAR