

BEGIN:VCALENDAR
VERSION:2.0
PRODID:-//PIMFA - Building Personal Financial Futures - ECPv6.15.18//NONSGML v1.0//EN
CALSCALE:GREGORIAN
METHOD:PUBLISH
X-ORIGINAL-URL:https://www.pimfa.co.uk
X-WR-CALDESC:Events for PIMFA - Building Personal Financial Futures
REFRESH-INTERVAL;VALUE=DURATION:PT1H
X-Robots-Tag:noindex
X-PUBLISHED-TTL:PT1H
BEGIN:VTIMEZONE
TZID:Europe/London
BEGIN:DAYLIGHT
TZOFFSETFROM:+0000
TZOFFSETTO:+0100
TZNAME:BST
DTSTART:20240331T010000
END:DAYLIGHT
BEGIN:STANDARD
TZOFFSETFROM:+0100
TZOFFSETTO:+0000
TZNAME:GMT
DTSTART:20241027T010000
END:STANDARD
BEGIN:DAYLIGHT
TZOFFSETFROM:+0000
TZOFFSETTO:+0100
TZNAME:BST
DTSTART:20250330T010000
END:DAYLIGHT
BEGIN:STANDARD
TZOFFSETFROM:+0100
TZOFFSETTO:+0000
TZNAME:GMT
DTSTART:20251026T010000
END:STANDARD
BEGIN:DAYLIGHT
TZOFFSETFROM:+0000
TZOFFSETTO:+0100
TZNAME:BST
DTSTART:20260329T010000
END:DAYLIGHT
BEGIN:STANDARD
TZOFFSETFROM:+0100
TZOFFSETTO:+0000
TZNAME:GMT
DTSTART:20261025T010000
END:STANDARD
END:VTIMEZONE
BEGIN:VEVENT
DTSTART;TZID=Europe/London:20250304T140000
DTEND;TZID=Europe/London:20250304T150000
DTSTAMP:20260419T134320
CREATED:20250327T121333Z
LAST-MODIFIED:20250918T133044Z
UID:324340-1741096800-1741100400@www.pimfa.co.uk
SUMMARY:PIMFA HR Briefing 2025 - HR Leaders Looking Back\, Moving Forward: 2024 Summary and 2025 Kick-Off
DESCRIPTION:Challenging times lie ahead for HR leaders\, but so do opportunities. In the first HR Briefing of the year\, the employment team at Clyde & Co. will review what you might have missed in 2024\, and what you need to know to prepare for the employment law changes in 2025. \nIn this  HR Briefing session\, Chris Holme and Shadia El Dardiry will take you through both recent and upcoming changes which are significant for HR professionals and in-house lawyers in PIMFA member firms this year. \nThey will look back at the key employment law developments in 2024\, and will consider what these mean for financial services firms. In addition\, they will provide a case law update on key decisions from last year. \nThere are a number of changes being introduced this year which they will take you through – as well as the practical steps you should be considering in 2025 in order to prepare for the significant upcoming employment law reforms. The webinar will also remind firms of the proposed regulatory changes on non-financial misconduct and diversity and inclusion in relation to which the FCA is publishing policy statements.
URL:https://www.pimfa.co.uk/event/pimfa-hr-briefing-2025-hr-leaders-looking-back-moving-forward-2024-summary-and-2025-kick-off/
CATEGORIES:HR Briefing,Learning
ATTACH;FMTTYPE=image/png:https://www.pimfa.co.uk/wp-content/uploads/2025/12/800x800_two-Women_surfing.png
ORGANIZER;CN="PIMFA - Learning":MAILTO:learning@pimfa.co.uk
LOCATION:https://www.pimfa.co.uk/event/pimfa-hr-briefing-2025-hr-leaders-looking-back-moving-forward-2024-summary-and-2025-kick-off/
END:VEVENT
END:VCALENDAR